BEGIN:VCALENDAR
VERSION:2.0
PRODID:-//Rando Pays de Lorient - ECPv6.15.17.1//NONSGML v1.0//EN
CALSCALE:GREGORIAN
METHOD:PUBLISH
X-WR-CALNAME:Rando Pays de Lorient
X-ORIGINAL-URL:https://randopaysdelorient.fr
X-WR-CALDESC:Évènements pour Rando Pays de Lorient
REFRESH-INTERVAL;VALUE=DURATION:PT1H
X-Robots-Tag:noindex
X-PUBLISHED-TTL:PT1H
BEGIN:VTIMEZONE
TZID:Europe/Paris
BEGIN:DAYLIGHT
TZOFFSETFROM:+0100
TZOFFSETTO:+0200
TZNAME:CEST
DTSTART:20240331T010000
END:DAYLIGHT
BEGIN:STANDARD
TZOFFSETFROM:+0200
TZOFFSETTO:+0100
TZNAME:CET
DTSTART:20241027T010000
END:STANDARD
BEGIN:DAYLIGHT
TZOFFSETFROM:+0100
TZOFFSETTO:+0200
TZNAME:CEST
DTSTART:20250330T010000
END:DAYLIGHT
BEGIN:STANDARD
TZOFFSETFROM:+0200
TZOFFSETTO:+0100
TZNAME:CET
DTSTART:20251026T010000
END:STANDARD
BEGIN:DAYLIGHT
TZOFFSETFROM:+0100
TZOFFSETTO:+0200
TZNAME:CEST
DTSTART:20260329T010000
END:DAYLIGHT
BEGIN:STANDARD
TZOFFSETFROM:+0200
TZOFFSETTO:+0100
TZNAME:CET
DTSTART:20261025T010000
END:STANDARD
END:VTIMEZONE
BEGIN:VEVENT
DTSTART;TZID=Europe/Paris:20250622T080000
DTEND;TZID=Europe/Paris:20250622T183000
DTSTAMP:20260424T012406
CREATED:20250601T102733Z
LAST-MODIFIED:20250620T114002Z
UID:26624-1750579200-1750617000@randopaysdelorient.fr
SUMMARY:Dimanche 22 Juin 2025 Le Tour du Parc et Penvins-RANDO ANNULEE
DESCRIPTION:Cette rando est annulée\, trop peu de personnes inscrites pour une sortie journée\, mais je la reprogrammerai à la rentrée.\n  \nRandonnée de 19 kms très facile au Tour du Parc puis à la Pointe de Penvins (2 boucles). \nRV à Cosmao à 8h pour départ à 8h15 \nou à 9h15 du parking rue Marie le Franc à Sarzeau. \nNe pas stationner sur le 1er parking\, continuer 700m le long du bord de mer. \nLe pique-nique reste dans la voiture. Prévoir un siège. \nAmateurs (trices) de baignade\, pensez au maillot. \nCo-voiturage : 10€ \nMerci de me prévenir si vous y allez directement.
URL:https://randopaysdelorient.fr/rando/dimanche-22-juin-le-tour-du-parc-et-penvins/
CATEGORIES:Rando du Dimanche
ORGANIZER;CN="Anne Marie M%C3%A9hault-Peyre":MAILTO:amehaultpeyre@gmail.com
END:VEVENT
END:VCALENDAR