BEGIN:VCALENDAR
VERSION:2.0
PRODID:-//Rando Pays de Lorient - ECPv6.15.17.1//NONSGML v1.0//EN
CALSCALE:GREGORIAN
METHOD:PUBLISH
X-ORIGINAL-URL:https://randopaysdelorient.fr
X-WR-CALDESC:Évènements pour Rando Pays de Lorient
REFRESH-INTERVAL;VALUE=DURATION:PT1H
X-Robots-Tag:noindex
X-PUBLISHED-TTL:PT1H
BEGIN:VTIMEZONE
TZID:Europe/Paris
BEGIN:DAYLIGHT
TZOFFSETFROM:+0100
TZOFFSETTO:+0200
TZNAME:CEST
DTSTART:20240331T010000
END:DAYLIGHT
BEGIN:STANDARD
TZOFFSETFROM:+0200
TZOFFSETTO:+0100
TZNAME:CET
DTSTART:20241027T010000
END:STANDARD
BEGIN:DAYLIGHT
TZOFFSETFROM:+0100
TZOFFSETTO:+0200
TZNAME:CEST
DTSTART:20250330T010000
END:DAYLIGHT
BEGIN:STANDARD
TZOFFSETFROM:+0200
TZOFFSETTO:+0100
TZNAME:CET
DTSTART:20251026T010000
END:STANDARD
BEGIN:DAYLIGHT
TZOFFSETFROM:+0100
TZOFFSETTO:+0200
TZNAME:CEST
DTSTART:20260329T010000
END:DAYLIGHT
BEGIN:STANDARD
TZOFFSETFROM:+0200
TZOFFSETTO:+0100
TZNAME:CET
DTSTART:20261025T010000
END:STANDARD
END:VTIMEZONE
BEGIN:VEVENT
DTSTART;VALUE=DATE:20250928
DTEND;VALUE=DATE:20250929
DTSTAMP:20260423T210910
CREATED:20250921T081217Z
LAST-MODIFIED:20250927T104452Z
UID:29626-1759017600-1759103999@randopaysdelorient.fr
SUMMARY:Randonnée dimanche 28 septembre.  Annulée : trop peu de participants
DESCRIPTION:Bonjour\,\nLes huitres étant encore trop laiteuses en cette fin septembre ( eau trop chaude ) nous avons décidé de remettre à plus tard notre sortie  » dégustation huitres « \nNous vous proposons un joli circuit de 19kms autour de Bubry ( peu de dénivelés )\nA voir en chemin : fontaine St Gildas\, chapelle de la Salette \, chapelle de Trémeur\, fontaine St Trémeur\nDépart du parking de la salle polyvalente de Bubry  ( près du cimetière ) à 9h15\nDépart de Cosmao à 8h30 \nPique nique dans le sac à dos ou possibilité de manger à la chapelle de Trémeur : stand galettes saucisses \, gâteaux et boisson !\nPour les amateurs de châtaignes prévoyez un  » pochon « \nCo voiturage : 6 €
URL:https://randopaysdelorient.fr/rando/randonnee-dimanche-28-septembre/
LOCATION:Parking salle polyvalente\, rue Poulna\, Bubry\, 56310
CATEGORIES:Rando du Dimanche
ORGANIZER;CN="V%C3%A9ronique Munoz":MAILTO:munoz.veronique@orange.fr
END:VEVENT
BEGIN:VEVENT
DTSTART;TZID=Europe/Paris:20250928T080000
DTEND;TZID=Europe/Paris:20250928T170000
DTSTAMP:20260423T210910
CREATED:20250620T142821Z
LAST-MODIFIED:20250620T142821Z
UID:27575-1759046400-1759078800@randopaysdelorient.fr
SUMMARY:Randonnée du dimanche
DESCRIPTION:
URL:https://randopaysdelorient.fr/rando/randonnee-du-dimanche/
CATEGORIES:Rando du Dimanche
ORGANIZER;CN="V%C3%A9ronique Munoz":MAILTO:munoz.veronique@orange.fr
END:VEVENT
END:VCALENDAR