BEGIN:VCALENDAR
VERSION:2.0
PRODID:-//Rando Pays de Lorient - ECPv6.15.17.1//NONSGML v1.0//EN
CALSCALE:GREGORIAN
METHOD:PUBLISH
X-WR-CALNAME:Rando Pays de Lorient
X-ORIGINAL-URL:https://randopaysdelorient.fr
X-WR-CALDESC:Évènements pour Rando Pays de Lorient
REFRESH-INTERVAL;VALUE=DURATION:PT1H
X-Robots-Tag:noindex
X-PUBLISHED-TTL:PT1H
BEGIN:VTIMEZONE
TZID:Europe/Paris
BEGIN:DAYLIGHT
TZOFFSETFROM:+0100
TZOFFSETTO:+0200
TZNAME:CEST
DTSTART:20240331T010000
END:DAYLIGHT
BEGIN:STANDARD
TZOFFSETFROM:+0200
TZOFFSETTO:+0100
TZNAME:CET
DTSTART:20241027T010000
END:STANDARD
BEGIN:DAYLIGHT
TZOFFSETFROM:+0100
TZOFFSETTO:+0200
TZNAME:CEST
DTSTART:20250330T010000
END:DAYLIGHT
BEGIN:STANDARD
TZOFFSETFROM:+0200
TZOFFSETTO:+0100
TZNAME:CET
DTSTART:20251026T010000
END:STANDARD
BEGIN:DAYLIGHT
TZOFFSETFROM:+0100
TZOFFSETTO:+0200
TZNAME:CEST
DTSTART:20260329T010000
END:DAYLIGHT
BEGIN:STANDARD
TZOFFSETFROM:+0200
TZOFFSETTO:+0100
TZNAME:CET
DTSTART:20261025T010000
END:STANDARD
END:VTIMEZONE
BEGIN:VEVENT
DTSTART;VALUE=DATE:20251116
DTEND;VALUE=DATE:20251117
DTSTAMP:20260423T181739
CREATED:20250620T143008Z
LAST-MODIFIED:20251001T135233Z
UID:27578-1763251200-1763337599@randopaysdelorient.fr
SUMMARY:Randonnée du dimanche 16 novembre 2025\, Carnac et La Trinité sur mer
DESCRIPTION:2  boucles : \n\nle matin\, 12\,6 km\, direction Carnac en passant par Le Men Du\, les alignements de Kermario et Le Ménec puis le tumulus St-Michel.\nl’après-midi\, 6km\, La Trinité sur Mer\, Kerhino\, Pointe de Kerbihan et les marais salants de Kervillen.\n\nRendez-vous au parking  83 Boulevard Cosmao Dumanoir à 8h15 pour un départ à 8h30\, covoiturage 6 euros. \nDépart du parking du Poulber La Trinité sur Mer à 9h30\, le pique- nique restant dans les voitures. \nPensez à apporter un siège. \nMerci de me prévenir par SMS si vous partez directement.
URL:https://randopaysdelorient.fr/rando/randonnee-du-dimanche-3/
LOCATION:parking du Poulber\, Parking du Poulber\, La Trinité sur Mer\, 56470\, France
CATEGORIES:Rando du Dimanche
ATTACH;FMTTYPE=image/jpeg:https://randopaysdelorient.fr/wp-content/uploads/2025/06/20250827_0937151.jpg
ORGANIZER;CN="Philippe GARNIER":MAILTO:philippegarnierstlo@wanadoo.fr
END:VEVENT
END:VCALENDAR