BEGIN:VCALENDAR
VERSION:2.0
PRODID:-//Rando Pays de Lorient - ECPv6.15.17.1//NONSGML v1.0//EN
CALSCALE:GREGORIAN
METHOD:PUBLISH
X-ORIGINAL-URL:https://randopaysdelorient.fr
X-WR-CALDESC:Évènements pour Rando Pays de Lorient
REFRESH-INTERVAL;VALUE=DURATION:PT1H
X-Robots-Tag:noindex
X-PUBLISHED-TTL:PT1H
BEGIN:VTIMEZONE
TZID:Europe/Paris
BEGIN:DAYLIGHT
TZOFFSETFROM:+0100
TZOFFSETTO:+0200
TZNAME:CEST
DTSTART:20240331T010000
END:DAYLIGHT
BEGIN:STANDARD
TZOFFSETFROM:+0200
TZOFFSETTO:+0100
TZNAME:CET
DTSTART:20241027T010000
END:STANDARD
BEGIN:DAYLIGHT
TZOFFSETFROM:+0100
TZOFFSETTO:+0200
TZNAME:CEST
DTSTART:20250330T010000
END:DAYLIGHT
BEGIN:STANDARD
TZOFFSETFROM:+0200
TZOFFSETTO:+0100
TZNAME:CET
DTSTART:20251026T010000
END:STANDARD
BEGIN:DAYLIGHT
TZOFFSETFROM:+0100
TZOFFSETTO:+0200
TZNAME:CEST
DTSTART:20260329T010000
END:DAYLIGHT
BEGIN:STANDARD
TZOFFSETFROM:+0200
TZOFFSETTO:+0100
TZNAME:CET
DTSTART:20261025T010000
END:STANDARD
END:VTIMEZONE
BEGIN:VEVENT
DTSTART;TZID=Europe/Paris:20251214T080000
DTEND;TZID=Europe/Paris:20251214T180000
DTSTAMP:20260423T165656
CREATED:20250620T143551Z
LAST-MODIFIED:20251207T020838Z
UID:27584-1765699200-1765735200@randopaysdelorient.fr
SUMMARY:Randonnée à NEVEZ.
DESCRIPTION:En suivant le GR 34  pour découvrir Port-Manech\, Rospico et Raguénés.\nRendez vous à Cosmao à 8h15 pour un départ à 8h30.\nLe départ de la randonnée aura lieu à l’anse de Rospico à 9h 15. Le stationnement se fera sur le côté droit de la route avant le parking réservé au restaurant.\nMe prévenir si vous y allez directement.\nLa randonnée sera articulée en deux boucles  avec un arrêt aux voitures pour le pique-nique.\nCovoiturage : 6\,50 euros.
URL:https://randopaysdelorient.fr/rando/randonnee-du-dimanche-6/
LOCATION:NEVEZ\, Anse de Rospico\, NEVEZ\, 29920\, France
CATEGORIES:Rando du Dimanche
ORGANIZER;CN="Daniel Ducastel":MAILTO:claudani.ducastel@gmail.com
END:VEVENT
END:VCALENDAR