BEGIN:VCALENDAR
VERSION:2.0
PRODID:-//Rando Pays de Lorient - ECPv6.15.17.1//NONSGML v1.0//EN
CALSCALE:GREGORIAN
METHOD:PUBLISH
X-ORIGINAL-URL:https://randopaysdelorient.fr
X-WR-CALDESC:Évènements pour Rando Pays de Lorient
REFRESH-INTERVAL;VALUE=DURATION:PT1H
X-Robots-Tag:noindex
X-PUBLISHED-TTL:PT1H
BEGIN:VTIMEZONE
TZID:Europe/Paris
BEGIN:DAYLIGHT
TZOFFSETFROM:+0100
TZOFFSETTO:+0200
TZNAME:CEST
DTSTART:20240331T010000
END:DAYLIGHT
BEGIN:STANDARD
TZOFFSETFROM:+0200
TZOFFSETTO:+0100
TZNAME:CET
DTSTART:20241027T010000
END:STANDARD
BEGIN:DAYLIGHT
TZOFFSETFROM:+0100
TZOFFSETTO:+0200
TZNAME:CEST
DTSTART:20250330T010000
END:DAYLIGHT
BEGIN:STANDARD
TZOFFSETFROM:+0200
TZOFFSETTO:+0100
TZNAME:CET
DTSTART:20251026T010000
END:STANDARD
BEGIN:DAYLIGHT
TZOFFSETFROM:+0100
TZOFFSETTO:+0200
TZNAME:CEST
DTSTART:20260329T010000
END:DAYLIGHT
BEGIN:STANDARD
TZOFFSETFROM:+0200
TZOFFSETTO:+0100
TZNAME:CET
DTSTART:20261025T010000
END:STANDARD
END:VTIMEZONE
BEGIN:VEVENT
DTSTART;VALUE=DATE:20250610
DTEND;VALUE=DATE:20250611
DTSTAMP:20260424T025234
CREATED:20250524T144729Z
LAST-MODIFIED:20250524T144729Z
UID:26416-1749513600-1749599999@randopaysdelorient.fr
SUMMARY:La randonnée du  10 juin 2025 : sortie à la journée avec pique-nique à Saint Philibert
DESCRIPTION:Le mardi 10 juin 2025 est organisée une sortie à la journée avec pique-nique à Saint Philibert. \nDeux boucles sont prévues : le matin à la campagne avec 11 km\, et l’après-midi le bord de mer avec 8\,700 km. \nLe pique-nique restera dans les voitures. N’oubliez pas d’apporter votre siège. \nLe rendez-vous est fixé à 8h Boulevard Cosmao Dumanoir pour un départ à 8h15 (covoiturage 6€). \nLe départ de la randonnée aura lieu à 9 h du parking de la Chapelle rue de la Chapelle à Saint Philibert. \nMerci de me signaler si vous vous y rendez directement.
URL:https://randopaysdelorient.fr/rando/la-randonnee-du-10-juin-2025-sortie-a-la-journee-avec-pique-nique-a-saint-philibert/
CATEGORIES:Rando du Mardi
ORGANIZER;CN="Anne-Marie GARNIER":MAILTO:amr.garnier@orange.fr
END:VEVENT
BEGIN:VEVENT
DTSTART;TZID=Europe/Paris:20250617T133000
DTEND;TZID=Europe/Paris:20250617T183000
DTSTAMP:20260424T025234
CREATED:20250611T142024Z
LAST-MODIFIED:20250611T142024Z
UID:26857-1750167000-1750185000@randopaysdelorient.fr
SUMMARY:Mardi 17 Juin 2025 à KERMEC
DESCRIPTION:Rando de 11kms à travers bois et campagne et sur les bords de l’Ellé. \nRV à Cosmao à 13h15 pour départ à 13h30 \nou à 14h au parking de Kermec (Commune de Tréméven) \nA Quimperlé\, prendre direction Le Faouët\, puis\, après le panneau de sortie de ville\, à environ 1.3km\, prendre à droite « Maison de l’enfance et des loisirs ». Au stop\, continuer tout droit jusqu’au parking. \nCo-voiturage : 3€ \nMerci de me prévenir si vous y allez directement.
URL:https://randopaysdelorient.fr/rando/mardi-17-juin-2025-a-kermec/
CATEGORIES:Rando du Mardi
ORGANIZER;CN="Anne Marie M%C3%A9hault-Peyre":MAILTO:amehaultpeyre@gmail.com
END:VEVENT
BEGIN:VEVENT
DTSTART;TZID=Europe/Paris:20250624T133000
DTEND;TZID=Europe/Paris:20250624T183000
DTSTAMP:20260424T025234
CREATED:20250618T082806Z
LAST-MODIFIED:20250618T082806Z
UID:27266-1750771800-1750789800@randopaysdelorient.fr
SUMMARY:La randonnée du mardi 24 juin 2025 : Plouharnel\, chapelle Sainte Barbe et les deux Abbayes
DESCRIPTION:La randonnée du mardi 24 juin 2024 aura lieu à Plouharnel\, circuit sans difficulté de 12 km qui nous mènera à la chapelle Sainte Barbe\, puis au bord de mer et retour par les deux Abbayes. \nLe rendez-vous est fixé à 13h15 Boulevard Cosmao Dumanoir pour un départ à 13h30 (covoiturage 4€) . \nLe départ de la randonnée aura lieu à 14h15 du parking du super U\, Rond point de l’Océan\, à Plouharnel. \nMerci de me signaler si vous vous y rendez directement.
URL:https://randopaysdelorient.fr/rando/la-randonnee-du-mardi-24-juin-2025-plouharnel-chapelle-sainte-barbe-et-les-deux-abbayes/
LOCATION:PARKING SUPER U\, RDPT DE L OCEAN\, PLOUHARNEL\, 56340\, France
CATEGORIES:Rando du Mardi
ORGANIZER;CN="Anne-Marie GARNIER":MAILTO:amr.garnier@orange.fr
END:VEVENT
BEGIN:VEVENT
DTSTART;VALUE=DATE:20250626
DTEND;VALUE=DATE:20250627
DTSTAMP:20260424T025234
CREATED:20250404T140745Z
LAST-MODIFIED:20250523T113726Z
UID:24946-1750896000-1750982399@randopaysdelorient.fr
SUMMARY:Sortie de fin d'année à l'Ile d'Arz jeudi 26 juin
DESCRIPTION:Comme les années précédentes nous organisons une sortie à la journée pour tous les membres de l’association\, ce qui permet de rencontrer les randonneurs qui ne marchent pas les mêmes jours durant l’année.\nCette année avec Patrick nous vous proposons le tour de l’île d’Arz  : 14 ou 17 km . Pique nique dans le sac.\nLe départ se fera à la gare maritime de Vannes à 8h30 et le retour au bateau de 17h30 ( arrivée à Vannes à 18h)\nLe prix de la traversée est de 11\,80€ à régler à RPL .RIB\nRdV à 7h30 à Cosmao pour organiser le covoiturage ( vous pouvez constituer des voitures de 4 ou 5 en amont )\nPrix du covoiturage : 7€\nDate limite d’inscription : 1er juin\nEn espérant que vous serez nombreux à venir !\nA très bientôt\nVéronique & Patrick
URL:https://randopaysdelorient.fr/rando/sortie-de-fin-dannee-a-lile-darz-jeudi-26-juin/
CATEGORIES:Marche aquatique du lundi,Marche nordique,Rando du Jeudi,Rando du Jeudi - 8km,Rando du Mardi,Rando du Mercredi,Randos insolites / Divers
END:VEVENT
END:VCALENDAR