BEGIN:VCALENDAR
VERSION:2.0
PRODID:-//Rando Pays de Lorient - ECPv6.15.17.1//NONSGML v1.0//EN
CALSCALE:GREGORIAN
METHOD:PUBLISH
X-WR-CALNAME:Rando Pays de Lorient
X-ORIGINAL-URL:https://randopaysdelorient.fr
X-WR-CALDESC:Évènements pour Rando Pays de Lorient
REFRESH-INTERVAL;VALUE=DURATION:PT1H
X-Robots-Tag:noindex
X-PUBLISHED-TTL:PT1H
BEGIN:VTIMEZONE
TZID:Europe/Paris
BEGIN:DAYLIGHT
TZOFFSETFROM:+0100
TZOFFSETTO:+0200
TZNAME:CEST
DTSTART:20240331T010000
END:DAYLIGHT
BEGIN:STANDARD
TZOFFSETFROM:+0200
TZOFFSETTO:+0100
TZNAME:CET
DTSTART:20241027T010000
END:STANDARD
BEGIN:DAYLIGHT
TZOFFSETFROM:+0100
TZOFFSETTO:+0200
TZNAME:CEST
DTSTART:20250330T010000
END:DAYLIGHT
BEGIN:STANDARD
TZOFFSETFROM:+0200
TZOFFSETTO:+0100
TZNAME:CET
DTSTART:20251026T010000
END:STANDARD
BEGIN:DAYLIGHT
TZOFFSETFROM:+0100
TZOFFSETTO:+0200
TZNAME:CEST
DTSTART:20260329T010000
END:DAYLIGHT
BEGIN:STANDARD
TZOFFSETFROM:+0200
TZOFFSETTO:+0100
TZNAME:CET
DTSTART:20261025T010000
END:STANDARD
END:VTIMEZONE
BEGIN:VEVENT
DTSTART;TZID=Europe/Paris:20250701T133000
DTEND;TZID=Europe/Paris:20250701T183000
DTSTAMP:20260424T013228
CREATED:20250625T100433Z
LAST-MODIFIED:20250630T093808Z
UID:27719-1751376600-1751394600@randopaysdelorient.fr
SUMMARY:Mardi 1er Juillet 2025 à LARMOR-BADEN
DESCRIPTION:COMPTE-TENU DE LA METEO\, \nPrévoyez au moins 1 litre d’eau par personne\,  \net\, éventuellement\, un parapluie ! \nOn sera à l’ombre une partie de la rando\, et pour le reste\, on sera surtout en bord de côte. \n  \nPour cette dernière sortie du mardi\, je vous propose de faire le tour de Larmor-Baden\, en passant par l’île Berder. \nAucune difficulté. \nRV à 13h15 à Cosmao pour partir à 13h30 \nou à 14h15 à la Mairie de Larmor-Baden (parkings autour de l’église). \nPour fêter cette fin de saison\, nous irons boire le pot le l’amitié en fin de rando. \nCo-voiturage : 6€ \nMerci de me faire savoir si vous vous y rendez directement.
URL:https://randopaysdelorient.fr/rando/mardi-1er-juillet-2025-a-larmor-baden/
LOCATION:Mairie LARMOR BADEN\, Mairie\, LARMOR BADEN\, 56870\, France
CATEGORIES:Rando du Mardi
ORGANIZER;CN="Anne Marie M%C3%A9hault-Peyre":MAILTO:amehaultpeyre@gmail.com
END:VEVENT
END:VCALENDAR