BEGIN:VCALENDAR
VERSION:2.0
PRODID:-//Rando Pays de Lorient - ECPv6.15.17.1//NONSGML v1.0//EN
CALSCALE:GREGORIAN
METHOD:PUBLISH
X-ORIGINAL-URL:https://randopaysdelorient.fr
X-WR-CALDESC:Évènements pour Rando Pays de Lorient
REFRESH-INTERVAL;VALUE=DURATION:PT1H
X-Robots-Tag:noindex
X-PUBLISHED-TTL:PT1H
BEGIN:VTIMEZONE
TZID:Europe/Paris
BEGIN:DAYLIGHT
TZOFFSETFROM:+0100
TZOFFSETTO:+0200
TZNAME:CEST
DTSTART:20240331T010000
END:DAYLIGHT
BEGIN:STANDARD
TZOFFSETFROM:+0200
TZOFFSETTO:+0100
TZNAME:CET
DTSTART:20241027T010000
END:STANDARD
BEGIN:DAYLIGHT
TZOFFSETFROM:+0100
TZOFFSETTO:+0200
TZNAME:CEST
DTSTART:20250330T010000
END:DAYLIGHT
BEGIN:STANDARD
TZOFFSETFROM:+0200
TZOFFSETTO:+0100
TZNAME:CET
DTSTART:20251026T010000
END:STANDARD
BEGIN:DAYLIGHT
TZOFFSETFROM:+0100
TZOFFSETTO:+0200
TZNAME:CEST
DTSTART:20260329T010000
END:DAYLIGHT
BEGIN:STANDARD
TZOFFSETFROM:+0200
TZOFFSETTO:+0100
TZNAME:CET
DTSTART:20261025T010000
END:STANDARD
END:VTIMEZONE
BEGIN:VEVENT
DTSTART;TZID=Europe/Paris:20251007T133000
DTEND;TZID=Europe/Paris:20251007T190000
DTSTAMP:20260423T210910
CREATED:20251001T081939Z
LAST-MODIFIED:20251001T132015Z
UID:30417-1759843800-1759863600@randopaysdelorient.fr
SUMMARY:La randonnée du mardi 7 octobre 2025 : Nostang Saint Symphorien
DESCRIPTION:La randonnée du mardi 7 octobre 2025 aura lieu à Nostang\, un circuit sans difficulté vers la chapelle Saint Symphorien en passant sur la nouvelle passerelle Gérard Leroux achevée début juillet 2025\, pour se diriger vers la Chapelle Saint Cado et terminer par une boucle dans la ria d’Etel. \nLe rendez-vous est fixé à 13h15 Boulevard Cosmao Dumanoir (covoiturage 2 euros). \nDépart de la rando à 14h parking près du cimetière et du village vacances Rémoulin (tourner avant l’église). \nMerci de me signaler si vous vous y rendez directement.
URL:https://randopaysdelorient.fr/rando/la-randonnee-du-mardi-7-octobre-2025-nostang-saint-symphorien/
LOCATION:Cimetière\, Cimetière\, NOSTANG\, 56690\, France
CATEGORIES:Rando du Mardi
ATTACH;FMTTYPE=image/jpeg:https://randopaysdelorient.fr/wp-content/uploads/2025/10/1-1-scaled.jpg
ORGANIZER;CN="Anne-Marie GARNIER":MAILTO:amr.garnier@orange.fr
END:VEVENT
BEGIN:VEVENT
DTSTART;VALUE=DATE:20251010
DTEND;VALUE=DATE:20251011
DTSTAMP:20260423T210910
CREATED:20251001T210857Z
LAST-MODIFIED:20251008T164948Z
UID:30638-1760054400-1760140799@randopaysdelorient.fr
SUMMARY:RANDO PHOTOS: VENDREDI 10 OCTOBRE AU POULDU "SUR LE CHEMIN DES PEINTRES " DEPART 9H30.
DESCRIPTION:Ce vendredi 10 octobre\, nous irons\,  » sur le chemin des peintres  » au Pouldu à la découverte des paysages qui ont tant inspiré les peintres synthétistes dans cette ambiance du 19 -ème siècle.\nLe programme:\n10h30 visite guidée de la maison musée Marie Henry où furent hébergés Paul Gauguin\, Paul Sérusier\, Charles Filiger\, Meyer de Haan\, et O’ Connor. Coût de la visite guidée :7 euros.( Prévoir l’appoint en monnaie )\n12h déjeuner (pique-nique )\n13h départ randonnée photos.(8 kms environ )\nConseils :\nVenez si possible avec votre appareil photo ( pour photographier en mode manuel et donner libre cours à votre création ) ou à défaut avec votre smartphone ou iPhone. Les deux meilleurs photos de chacun seront exposées sur le site de RPL avec le compte-rendu de la journée.\nModalités pratiques:\nRendez-vous à 9h20 à Cosmao Dumanoir pour un départ à 9h30. Covoiturage : 3 euros.\nPour ceux qui partent directement \, rendez-vous à 10h au parking jouxtant l’allée Jean le  Grevellec ( face à l’office de tourisme ). Dans cette hypothèse merci de me prévenir.\nNB: nombre de places limitées à 15 personnes\nAu plaisir de se voir pour cette belle journée.
URL:https://randopaysdelorient.fr/rando/rando-photos-vendredi-10-octobre-au-pouldu-sur-le-chemin-des-peintres-depart-9h30/
LOCATION:parking Jean le Grevellec\, Allée Jean le Grevellec\, le Pouldu\, 29360\, France
CATEGORIES:Rando du Jeudi,Rando du Jeudi - 8km,Rando du Mardi,Rando du Mercredi,Randos insolites / Divers
ATTACH;FMTTYPE=image/jpeg:https://randopaysdelorient.fr/wp-content/uploads/2025/10/53990174541_891cd2db5f_c.jpg
ORGANIZER;CN="Jean-Jacques Peyre":MAILTO:jjacques-jacques.peyre@orange.fr
END:VEVENT
BEGIN:VEVENT
DTSTART;TZID=Europe/Paris:20251014T133000
DTEND;TZID=Europe/Paris:20251014T190000
DTSTAMP:20260423T210910
CREATED:20251008T142745Z
LAST-MODIFIED:20251013T073248Z
UID:30864-1760448600-1760468400@randopaysdelorient.fr
SUMMARY:Mardi 14 Octobre 2025 à LANDEVANT
DESCRIPTION:Moins de 200 m. de dénivelé pour cette randonnée de 12kms dans la campagne et les bois de Landévant.\nRV à Cosmao à 13h15 pour départ au plus tard à 13h30\nou à la Chapelle de Locmaria à 13h50\nCo-voiturage : 3€\nMerci de me prévenir si vous y allez directement\nOu si vous vous désincrivez
URL:https://randopaysdelorient.fr/rando/mardi-14-octobre-2025-a-landevant/
LOCATION:LANDEVANT Chapelle de Locmaria\, Chapelle de Locmaria\, LANDEVANT\, 56690\, France
CATEGORIES:Rando du Mardi
ATTACH;FMTTYPE=image/jpeg:https://randopaysdelorient.fr/wp-content/uploads/2025/10/LANDEVANT-14-10-25-2.jpg
ORGANIZER;CN="Anne Marie M%C3%A9hault-Peyre":MAILTO:amehaultpeyre@gmail.com
END:VEVENT
END:VCALENDAR