BEGIN:VCALENDAR
VERSION:2.0
PRODID:-//Rando Pays de Lorient - ECPv6.15.17.1//NONSGML v1.0//EN
CALSCALE:GREGORIAN
METHOD:PUBLISH
X-ORIGINAL-URL:https://randopaysdelorient.fr
X-WR-CALDESC:Évènements pour Rando Pays de Lorient
REFRESH-INTERVAL;VALUE=DURATION:PT1H
X-Robots-Tag:noindex
X-PUBLISHED-TTL:PT1H
BEGIN:VTIMEZONE
TZID:Europe/Paris
BEGIN:DAYLIGHT
TZOFFSETFROM:+0100
TZOFFSETTO:+0200
TZNAME:CEST
DTSTART:20250330T010000
END:DAYLIGHT
BEGIN:STANDARD
TZOFFSETFROM:+0200
TZOFFSETTO:+0100
TZNAME:CET
DTSTART:20251026T010000
END:STANDARD
BEGIN:DAYLIGHT
TZOFFSETFROM:+0100
TZOFFSETTO:+0200
TZNAME:CEST
DTSTART:20260329T010000
END:DAYLIGHT
BEGIN:STANDARD
TZOFFSETFROM:+0200
TZOFFSETTO:+0100
TZNAME:CET
DTSTART:20261025T010000
END:STANDARD
BEGIN:DAYLIGHT
TZOFFSETFROM:+0100
TZOFFSETTO:+0200
TZNAME:CEST
DTSTART:20270328T010000
END:DAYLIGHT
BEGIN:STANDARD
TZOFFSETFROM:+0200
TZOFFSETTO:+0100
TZNAME:CET
DTSTART:20271031T010000
END:STANDARD
END:VTIMEZONE
BEGIN:VEVENT
DTSTART;TZID=Europe/Paris:20260106T133000
DTEND;TZID=Europe/Paris:20260106T183000
DTSTAMP:20260423T170008
CREATED:20251226T141249Z
LAST-MODIFIED:20251226T141249Z
UID:33367-1767706200-1767724200@randopaysdelorient.fr
SUMMARY:Randonnée du mardi 6 janvier 2026 : Le Ter\, Kernével et la Base.
DESCRIPTION:Pour la première randonnée de l’année le mardi 6 janvier 2026\, un circuit de 12 km sans difficulté est prévu au départ des étangs du Ter à Lorient\, pour rejoindre Kernével par les villages de Larmor-Plage\, puis longer la rade de Lorient et parcourir la Base avant de revenir à notre point de départ.\nLe rendez-vous est fixé à 13h15 au 85 Boulevard Cosmao Dumanoir pour un départ à 13h30 (covoiturage 0 euro).\nIl est conseillé de se munir de bonnes chaussures et de bâtons (si vous en utilisez habituellement) notamment pour la partie autour des étangs du Ter.\nLe départ de la randonnée aura lieu à 13h40 au 50 rue Victor Schoelcher près du Centre de Loisirs du Ter de Lorient.\nMerci de me signaler si vous y aller directement.
URL:https://randopaysdelorient.fr/rando/randonnee-du-mardi-6-janvier-2026-le-ter-kernevel-et-la-base/
LOCATION:Centre de Loisirs du Ter\, 50 rue Victor Schoelcher\, LORIENT\, 56100\, France
CATEGORIES:Rando du Mardi
ATTACH;FMTTYPE=image/jpeg:https://randopaysdelorient.fr/wp-content/uploads/2025/12/2-1-1.jpg
ORGANIZER;CN="Anne-Marie GARNIER":MAILTO:amr.garnier@orange.fr
END:VEVENT
BEGIN:VEVENT
DTSTART;TZID=Europe/Paris:20260113T133000
DTEND;TZID=Europe/Paris:20260113T183000
DTSTAMP:20260423T170008
CREATED:20260109T133926Z
LAST-MODIFIED:20260112T184036Z
UID:33660-1768311000-1768329000@randopaysdelorient.fr
SUMMARY:Mardi 13 Janvier 2025 RANDO ANNULEE
DESCRIPTION:RANDO ANNULEE en raison du mauvais temps\n\nJe vous propose une découverte de proximité dans les quartiers nord de Lorient\, à partir de la place Cosmao. \nRV à Cosmao à 13h15 pour départ à 13h30 au plus tard. \nAucune difficulté.
URL:https://randopaysdelorient.fr/rando/mardi-13-janvier-2025-a-lorient-nord/
CATEGORIES:Rando du Mardi
ATTACH;FMTTYPE=image/jpeg:https://randopaysdelorient.fr/wp-content/uploads/2026/01/Lorient-13-01-25-1.jpeg
ORGANIZER;CN="Anne Marie M%C3%A9hault-Peyre":MAILTO:amehaultpeyre@gmail.com
END:VEVENT
BEGIN:VEVENT
DTSTART;VALUE=DATE:20260118
DTEND;VALUE=DATE:20260119
DTSTAMP:20260423T170008
CREATED:20251009T112932Z
LAST-MODIFIED:20251014T171757Z
UID:30900-1768694400-1768780799@randopaysdelorient.fr
SUMMARY:Repas de début d'année Dimanche 18 Janvier 2026
DESCRIPTION:Comme l’an passé c’est aux Salons du Golf de Ploemeur que nous nous retrouverons le dimanche 18 janvier pour un repas suivi d’un après midi dansant. \nLe tarif est de 37€ par personne à régler par virement au moment de l’inscription.   RIB \nLes inscriptions seront closes fin décembre . \nEn espérant que nous serons nombreux à participer à ce moment de convivialité. \nA bientôt sur les chemins. \nVéronique \n 
URL:https://randopaysdelorient.fr/rando/repas-de-debut-dannee-dimanche-18-janvier-2026/
LOCATION:Ploemeur\, golf de ploemeur ocean\, ploemeur\, 56270
CATEGORIES:Divers,Marche aquatique du lundi,Marche aquatique du vendredi,Marche nordique,Marche nordique du mardi,Marche nordique du vendredi,Rando du Dimanche,Rando du Jeudi,Rando du Jeudi - 8km,Rando du Mardi,Rando du Mercredi,Randos insolites / Divers
ATTACH;FMTTYPE=image/jpeg:https://randopaysdelorient.fr/wp-content/uploads/2025/10/20250119_114028-1.jpg
ORGANIZER;CN="V%C3%A9ronique Munoz":MAILTO:munoz.veronique@orange.fr
END:VEVENT
BEGIN:VEVENT
DTSTART;TZID=Europe/Paris:20260120T133000
DTEND;TZID=Europe/Paris:20260120T183000
DTSTAMP:20260423T170008
CREATED:20260114T095513Z
LAST-MODIFIED:20260120T095951Z
UID:33727-1768915800-1768933800@randopaysdelorient.fr
SUMMARY:RANDO ANNULEE mardi 20 janvier 2026 : Caudan\, la ceinture bleue
DESCRIPTION:RANDONNEE ANNULEE VIGILANCE JAUNE\nLe mardi 20 janvier 2026 nous irons randonner à Caudan pour parcourir les sentiers de la ceinture bleue.\nLe rendez-vous est fixé à 13h15 au 85 boulevard Cosmao Dumanoir\, pour un départ à 13h30.\nLe départ de la randonnée a lieu à 13h 55  de l’Espace Jean Le Goulias (situé derrière l’église Saint Pierre et Saint Paul de Caudan : en venant de Lorient prendre la rue de la Libération à  gauche de l’église et aussitôt  après la première rue à droite). Le covoiturage est de 1 euro.\nMerci de me signaler si vous vous y rendez directement.\n\n 
URL:https://randopaysdelorient.fr/rando/randonnee-du-mardi-20-mars-2026-caudan-la-ceinture-bleue/
LOCATION:Parking\, Parking at the Beach\, TREGUNC\, 29910\, France
CATEGORIES:Rando du Mardi
ATTACH;FMTTYPE=image/jpeg:https://randopaysdelorient.fr/wp-content/uploads/2026/01/1-1.jpg
ORGANIZER;CN="Anne-Marie GARNIER":MAILTO:amr.garnier@orange.fr
END:VEVENT
BEGIN:VEVENT
DTSTART;TZID=Europe/Paris:20260127T133000
DTEND;TZID=Europe/Paris:20260127T183000
DTSTAMP:20260423T170008
CREATED:20260115T101712Z
LAST-MODIFIED:20260115T101811Z
UID:33765-1769520600-1769538600@randopaysdelorient.fr
SUMMARY:Mardi 27 Janvier 2026 à LORIENT
DESCRIPTION:Je vous propose une randonnée urbaine d’environ 12 kms dans les quartiers nord de Lorient.\nDépart à pied de Cosmao à 13h30.\nAucune difficulté.
URL:https://randopaysdelorient.fr/rando/mardi-27-janvier-2005-a-lorient/
CATEGORIES:Rando du Mardi
ATTACH;FMTTYPE=image/jpeg:https://randopaysdelorient.fr/wp-content/uploads/2026/01/Lorient-13-01-25-1-1.jpeg
ORGANIZER;CN="Anne Marie M%C3%A9hault-Peyre":MAILTO:amehaultpeyre@gmail.com
END:VEVENT
END:VCALENDAR