BEGIN:VCALENDAR
VERSION:2.0
PRODID:-//Rando Pays de Lorient - ECPv6.15.17.1//NONSGML v1.0//EN
CALSCALE:GREGORIAN
METHOD:PUBLISH
X-ORIGINAL-URL:https://randopaysdelorient.fr
X-WR-CALDESC:Évènements pour Rando Pays de Lorient
REFRESH-INTERVAL;VALUE=DURATION:PT1H
X-Robots-Tag:noindex
X-PUBLISHED-TTL:PT1H
BEGIN:VTIMEZONE
TZID:Europe/Paris
BEGIN:DAYLIGHT
TZOFFSETFROM:+0100
TZOFFSETTO:+0200
TZNAME:CEST
DTSTART:20250330T010000
END:DAYLIGHT
BEGIN:STANDARD
TZOFFSETFROM:+0200
TZOFFSETTO:+0100
TZNAME:CET
DTSTART:20251026T010000
END:STANDARD
BEGIN:DAYLIGHT
TZOFFSETFROM:+0100
TZOFFSETTO:+0200
TZNAME:CEST
DTSTART:20260329T010000
END:DAYLIGHT
BEGIN:STANDARD
TZOFFSETFROM:+0200
TZOFFSETTO:+0100
TZNAME:CET
DTSTART:20261025T010000
END:STANDARD
BEGIN:DAYLIGHT
TZOFFSETFROM:+0100
TZOFFSETTO:+0200
TZNAME:CEST
DTSTART:20270328T010000
END:DAYLIGHT
BEGIN:STANDARD
TZOFFSETFROM:+0200
TZOFFSETTO:+0100
TZNAME:CET
DTSTART:20271031T010000
END:STANDARD
END:VTIMEZONE
BEGIN:VEVENT
DTSTART;TZID=Europe/Paris:20260203T133000
DTEND;TZID=Europe/Paris:20260203T183000
DTSTAMP:20260423T153438
CREATED:20260130T165046Z
LAST-MODIFIED:20260202T195716Z
UID:34135-1770125400-1770143400@randopaysdelorient.fr
SUMMARY:Randonnée du mardi 3 février 2026 Pont-Scorff Cléguer
DESCRIPTION:Nous randonnerons le mardi 3 février 2026 sur les chemins de Pont-Scorff et de Cléguer. \nLe rendez-vous est fixé à 13h15 au 85 Boulevard Cosmao Dumanoir pour un départ à 13h30 (covoiturage 1\,50 €). \nLe départ de la randonnée aura lieu à 13h50 à Pont-Scorff\, place de la maison des Princes. \nMerci de me signaler si vous vous y rendez directement. \nPour ceux qui le souhaitent\, un pot sera organisé à l’issue de la randonnée (prévoir de la monnaie mais pas de gâteaux).
URL:https://randopaysdelorient.fr/rando/randonnee-du-mardi-3-fevrier-2026-pont-scorff-cleguer/
LOCATION:Place de la maison des Princes\, Place de la maison des Princes\, Pont-Scorff\, 56620\, France
CATEGORIES:Rando du Mardi
ATTACH;FMTTYPE=image/jpeg:https://randopaysdelorient.fr/wp-content/uploads/2026/01/1-4.jpg
ORGANIZER;CN="Anne-Marie GARNIER":MAILTO:amr.garnier@orange.fr
END:VEVENT
BEGIN:VEVENT
DTSTART;TZID=Europe/Paris:20260210T133000
DTEND;TZID=Europe/Paris:20260210T183000
DTSTAMP:20260423T153438
CREATED:20260206T094451Z
LAST-MODIFIED:20260210T090648Z
UID:34304-1770730200-1770748200@randopaysdelorient.fr
SUMMARY:Mardi 10 Février 2026 à KERVIGNAC
DESCRIPTION:SI VOUS AVEZ DES BOTTES\, PRENEZ-LES  \nRandonnée de 12 kms sur les bords du Blavet côté Kervignac.\nRV à 13h15 à Cosmao pour départ au plus tard à 13h30\nou à 13h40 sur le parking 1ère route à droite après le Pont du Bonhomme.\nAucune difficulté.\nCo-voiturage 1€
URL:https://randopaysdelorient.fr/rando/mardi-10-fevrier-2026-a-kervignac/
LOCATION:KERVIGNAC Pont du Bonhomme\, Pont du Bonhomme\, KERVIGNAC\, 56690
CATEGORIES:Rando du Mardi
ATTACH;FMTTYPE=image/jpeg:https://randopaysdelorient.fr/wp-content/uploads/2026/02/KERVIGNAC-10-02-26-1.jpeg
ORGANIZER;CN="Anne Marie M%C3%A9hault-Peyre":MAILTO:amehaultpeyre@gmail.com
END:VEVENT
END:VCALENDAR