BEGIN:VCALENDAR
VERSION:2.0
PRODID:-//Rando Pays de Lorient - ECPv6.15.17.1//NONSGML v1.0//EN
CALSCALE:GREGORIAN
METHOD:PUBLISH
X-ORIGINAL-URL:https://randopaysdelorient.fr
X-WR-CALDESC:Évènements pour Rando Pays de Lorient
REFRESH-INTERVAL;VALUE=DURATION:PT1H
X-Robots-Tag:noindex
X-PUBLISHED-TTL:PT1H
BEGIN:VTIMEZONE
TZID:Europe/Paris
BEGIN:DAYLIGHT
TZOFFSETFROM:+0100
TZOFFSETTO:+0200
TZNAME:CEST
DTSTART:19760328T000000
END:DAYLIGHT
BEGIN:STANDARD
TZOFFSETFROM:+0200
TZOFFSETTO:+0100
TZNAME:CET
DTSTART:19760925T230000
END:STANDARD
BEGIN:DAYLIGHT
TZOFFSETFROM:+0100
TZOFFSETTO:+0200
TZNAME:CEST
DTSTART:19770403T010000
END:DAYLIGHT
BEGIN:STANDARD
TZOFFSETFROM:+0200
TZOFFSETTO:+0100
TZNAME:CET
DTSTART:19770925T010000
END:STANDARD
BEGIN:DAYLIGHT
TZOFFSETFROM:+0100
TZOFFSETTO:+0200
TZNAME:CEST
DTSTART:19780402T010000
END:DAYLIGHT
BEGIN:STANDARD
TZOFFSETFROM:+0200
TZOFFSETTO:+0100
TZNAME:CET
DTSTART:19781001T010000
END:STANDARD
BEGIN:DAYLIGHT
TZOFFSETFROM:+0100
TZOFFSETTO:+0200
TZNAME:CEST
DTSTART:19790401T010000
END:DAYLIGHT
BEGIN:STANDARD
TZOFFSETFROM:+0200
TZOFFSETTO:+0100
TZNAME:CET
DTSTART:19790930T010000
END:STANDARD
BEGIN:DAYLIGHT
TZOFFSETFROM:+0100
TZOFFSETTO:+0200
TZNAME:CEST
DTSTART:19800406T010000
END:DAYLIGHT
BEGIN:STANDARD
TZOFFSETFROM:+0200
TZOFFSETTO:+0100
TZNAME:CET
DTSTART:19800928T010000
END:STANDARD
BEGIN:DAYLIGHT
TZOFFSETFROM:+0100
TZOFFSETTO:+0200
TZNAME:CEST
DTSTART:19810329T010000
END:DAYLIGHT
BEGIN:STANDARD
TZOFFSETFROM:+0200
TZOFFSETTO:+0100
TZNAME:CET
DTSTART:19810927T010000
END:STANDARD
BEGIN:DAYLIGHT
TZOFFSETFROM:+0100
TZOFFSETTO:+0200
TZNAME:CEST
DTSTART:19820328T010000
END:DAYLIGHT
BEGIN:STANDARD
TZOFFSETFROM:+0200
TZOFFSETTO:+0100
TZNAME:CET
DTSTART:19820926T010000
END:STANDARD
BEGIN:DAYLIGHT
TZOFFSETFROM:+0100
TZOFFSETTO:+0200
TZNAME:CEST
DTSTART:19830327T010000
END:DAYLIGHT
BEGIN:STANDARD
TZOFFSETFROM:+0200
TZOFFSETTO:+0100
TZNAME:CET
DTSTART:19830925T010000
END:STANDARD
BEGIN:DAYLIGHT
TZOFFSETFROM:+0100
TZOFFSETTO:+0200
TZNAME:CEST
DTSTART:19840325T010000
END:DAYLIGHT
BEGIN:STANDARD
TZOFFSETFROM:+0200
TZOFFSETTO:+0100
TZNAME:CET
DTSTART:19840930T010000
END:STANDARD
BEGIN:DAYLIGHT
TZOFFSETFROM:+0100
TZOFFSETTO:+0200
TZNAME:CEST
DTSTART:19850331T010000
END:DAYLIGHT
BEGIN:STANDARD
TZOFFSETFROM:+0200
TZOFFSETTO:+0100
TZNAME:CET
DTSTART:19850929T010000
END:STANDARD
BEGIN:DAYLIGHT
TZOFFSETFROM:+0100
TZOFFSETTO:+0200
TZNAME:CEST
DTSTART:19860330T010000
END:DAYLIGHT
BEGIN:STANDARD
TZOFFSETFROM:+0200
TZOFFSETTO:+0100
TZNAME:CET
DTSTART:19860928T010000
END:STANDARD
BEGIN:DAYLIGHT
TZOFFSETFROM:+0100
TZOFFSETTO:+0200
TZNAME:CEST
DTSTART:19870329T010000
END:DAYLIGHT
BEGIN:STANDARD
TZOFFSETFROM:+0200
TZOFFSETTO:+0100
TZNAME:CET
DTSTART:19870927T010000
END:STANDARD
BEGIN:DAYLIGHT
TZOFFSETFROM:+0100
TZOFFSETTO:+0200
TZNAME:CEST
DTSTART:19880327T010000
END:DAYLIGHT
BEGIN:STANDARD
TZOFFSETFROM:+0200
TZOFFSETTO:+0100
TZNAME:CET
DTSTART:19880925T010000
END:STANDARD
BEGIN:DAYLIGHT
TZOFFSETFROM:+0100
TZOFFSETTO:+0200
TZNAME:CEST
DTSTART:19890326T010000
END:DAYLIGHT
BEGIN:STANDARD
TZOFFSETFROM:+0200
TZOFFSETTO:+0100
TZNAME:CET
DTSTART:19890924T010000
END:STANDARD
BEGIN:DAYLIGHT
TZOFFSETFROM:+0100
TZOFFSETTO:+0200
TZNAME:CEST
DTSTART:19900325T010000
END:DAYLIGHT
BEGIN:STANDARD
TZOFFSETFROM:+0200
TZOFFSETTO:+0100
TZNAME:CET
DTSTART:19900930T010000
END:STANDARD
BEGIN:DAYLIGHT
TZOFFSETFROM:+0100
TZOFFSETTO:+0200
TZNAME:CEST
DTSTART:19910331T010000
END:DAYLIGHT
BEGIN:STANDARD
TZOFFSETFROM:+0200
TZOFFSETTO:+0100
TZNAME:CET
DTSTART:19910929T010000
END:STANDARD
BEGIN:DAYLIGHT
TZOFFSETFROM:+0100
TZOFFSETTO:+0200
TZNAME:CEST
DTSTART:19920329T010000
END:DAYLIGHT
BEGIN:STANDARD
TZOFFSETFROM:+0200
TZOFFSETTO:+0100
TZNAME:CET
DTSTART:19920927T010000
END:STANDARD
BEGIN:DAYLIGHT
TZOFFSETFROM:+0100
TZOFFSETTO:+0200
TZNAME:CEST
DTSTART:19930328T010000
END:DAYLIGHT
BEGIN:STANDARD
TZOFFSETFROM:+0200
TZOFFSETTO:+0100
TZNAME:CET
DTSTART:19930926T010000
END:STANDARD
BEGIN:DAYLIGHT
TZOFFSETFROM:+0100
TZOFFSETTO:+0200
TZNAME:CEST
DTSTART:19940327T010000
END:DAYLIGHT
BEGIN:STANDARD
TZOFFSETFROM:+0200
TZOFFSETTO:+0100
TZNAME:CET
DTSTART:19940925T010000
END:STANDARD
BEGIN:DAYLIGHT
TZOFFSETFROM:+0100
TZOFFSETTO:+0200
TZNAME:CEST
DTSTART:19950326T010000
END:DAYLIGHT
BEGIN:STANDARD
TZOFFSETFROM:+0200
TZOFFSETTO:+0100
TZNAME:CET
DTSTART:19950924T010000
END:STANDARD
BEGIN:DAYLIGHT
TZOFFSETFROM:+0100
TZOFFSETTO:+0200
TZNAME:CEST
DTSTART:19960331T010000
END:DAYLIGHT
BEGIN:STANDARD
TZOFFSETFROM:+0200
TZOFFSETTO:+0100
TZNAME:CET
DTSTART:19961027T010000
END:STANDARD
BEGIN:DAYLIGHT
TZOFFSETFROM:+0100
TZOFFSETTO:+0200
TZNAME:CEST
DTSTART:19970330T010000
END:DAYLIGHT
BEGIN:STANDARD
TZOFFSETFROM:+0200
TZOFFSETTO:+0100
TZNAME:CET
DTSTART:19971026T010000
END:STANDARD
BEGIN:DAYLIGHT
TZOFFSETFROM:+0100
TZOFFSETTO:+0200
TZNAME:CEST
DTSTART:19980329T010000
END:DAYLIGHT
BEGIN:STANDARD
TZOFFSETFROM:+0200
TZOFFSETTO:+0100
TZNAME:CET
DTSTART:19981025T010000
END:STANDARD
BEGIN:DAYLIGHT
TZOFFSETFROM:+0100
TZOFFSETTO:+0200
TZNAME:CEST
DTSTART:19990328T010000
END:DAYLIGHT
BEGIN:STANDARD
TZOFFSETFROM:+0200
TZOFFSETTO:+0100
TZNAME:CET
DTSTART:19991031T010000
END:STANDARD
BEGIN:DAYLIGHT
TZOFFSETFROM:+0100
TZOFFSETTO:+0200
TZNAME:CEST
DTSTART:20000326T010000
END:DAYLIGHT
BEGIN:STANDARD
TZOFFSETFROM:+0200
TZOFFSETTO:+0100
TZNAME:CET
DTSTART:20001029T010000
END:STANDARD
BEGIN:DAYLIGHT
TZOFFSETFROM:+0100
TZOFFSETTO:+0200
TZNAME:CEST
DTSTART:20010325T010000
END:DAYLIGHT
BEGIN:STANDARD
TZOFFSETFROM:+0200
TZOFFSETTO:+0100
TZNAME:CET
DTSTART:20011028T010000
END:STANDARD
BEGIN:DAYLIGHT
TZOFFSETFROM:+0100
TZOFFSETTO:+0200
TZNAME:CEST
DTSTART:20020331T010000
END:DAYLIGHT
BEGIN:STANDARD
TZOFFSETFROM:+0200
TZOFFSETTO:+0100
TZNAME:CET
DTSTART:20021027T010000
END:STANDARD
BEGIN:DAYLIGHT
TZOFFSETFROM:+0100
TZOFFSETTO:+0200
TZNAME:CEST
DTSTART:20030330T010000
END:DAYLIGHT
BEGIN:STANDARD
TZOFFSETFROM:+0200
TZOFFSETTO:+0100
TZNAME:CET
DTSTART:20031026T010000
END:STANDARD
BEGIN:DAYLIGHT
TZOFFSETFROM:+0100
TZOFFSETTO:+0200
TZNAME:CEST
DTSTART:20040328T010000
END:DAYLIGHT
BEGIN:STANDARD
TZOFFSETFROM:+0200
TZOFFSETTO:+0100
TZNAME:CET
DTSTART:20041031T010000
END:STANDARD
BEGIN:DAYLIGHT
TZOFFSETFROM:+0100
TZOFFSETTO:+0200
TZNAME:CEST
DTSTART:20050327T010000
END:DAYLIGHT
BEGIN:STANDARD
TZOFFSETFROM:+0200
TZOFFSETTO:+0100
TZNAME:CET
DTSTART:20051030T010000
END:STANDARD
BEGIN:DAYLIGHT
TZOFFSETFROM:+0100
TZOFFSETTO:+0200
TZNAME:CEST
DTSTART:20060326T010000
END:DAYLIGHT
BEGIN:STANDARD
TZOFFSETFROM:+0200
TZOFFSETTO:+0100
TZNAME:CET
DTSTART:20061029T010000
END:STANDARD
BEGIN:DAYLIGHT
TZOFFSETFROM:+0100
TZOFFSETTO:+0200
TZNAME:CEST
DTSTART:20070325T010000
END:DAYLIGHT
BEGIN:STANDARD
TZOFFSETFROM:+0200
TZOFFSETTO:+0100
TZNAME:CET
DTSTART:20071028T010000
END:STANDARD
BEGIN:DAYLIGHT
TZOFFSETFROM:+0100
TZOFFSETTO:+0200
TZNAME:CEST
DTSTART:20080330T010000
END:DAYLIGHT
BEGIN:STANDARD
TZOFFSETFROM:+0200
TZOFFSETTO:+0100
TZNAME:CET
DTSTART:20081026T010000
END:STANDARD
BEGIN:DAYLIGHT
TZOFFSETFROM:+0100
TZOFFSETTO:+0200
TZNAME:CEST
DTSTART:20090329T010000
END:DAYLIGHT
BEGIN:STANDARD
TZOFFSETFROM:+0200
TZOFFSETTO:+0100
TZNAME:CET
DTSTART:20091025T010000
END:STANDARD
BEGIN:DAYLIGHT
TZOFFSETFROM:+0100
TZOFFSETTO:+0200
TZNAME:CEST
DTSTART:20100328T010000
END:DAYLIGHT
BEGIN:STANDARD
TZOFFSETFROM:+0200
TZOFFSETTO:+0100
TZNAME:CET
DTSTART:20101031T010000
END:STANDARD
BEGIN:DAYLIGHT
TZOFFSETFROM:+0100
TZOFFSETTO:+0200
TZNAME:CEST
DTSTART:20110327T010000
END:DAYLIGHT
BEGIN:STANDARD
TZOFFSETFROM:+0200
TZOFFSETTO:+0100
TZNAME:CET
DTSTART:20111030T010000
END:STANDARD
BEGIN:DAYLIGHT
TZOFFSETFROM:+0100
TZOFFSETTO:+0200
TZNAME:CEST
DTSTART:20120325T010000
END:DAYLIGHT
BEGIN:STANDARD
TZOFFSETFROM:+0200
TZOFFSETTO:+0100
TZNAME:CET
DTSTART:20121028T010000
END:STANDARD
BEGIN:DAYLIGHT
TZOFFSETFROM:+0100
TZOFFSETTO:+0200
TZNAME:CEST
DTSTART:20130331T010000
END:DAYLIGHT
BEGIN:STANDARD
TZOFFSETFROM:+0200
TZOFFSETTO:+0100
TZNAME:CET
DTSTART:20131027T010000
END:STANDARD
BEGIN:DAYLIGHT
TZOFFSETFROM:+0100
TZOFFSETTO:+0200
TZNAME:CEST
DTSTART:20140330T010000
END:DAYLIGHT
BEGIN:STANDARD
TZOFFSETFROM:+0200
TZOFFSETTO:+0100
TZNAME:CET
DTSTART:20141026T010000
END:STANDARD
BEGIN:DAYLIGHT
TZOFFSETFROM:+0100
TZOFFSETTO:+0200
TZNAME:CEST
DTSTART:20150329T010000
END:DAYLIGHT
BEGIN:STANDARD
TZOFFSETFROM:+0200
TZOFFSETTO:+0100
TZNAME:CET
DTSTART:20151025T010000
END:STANDARD
BEGIN:DAYLIGHT
TZOFFSETFROM:+0100
TZOFFSETTO:+0200
TZNAME:CEST
DTSTART:20160327T010000
END:DAYLIGHT
BEGIN:STANDARD
TZOFFSETFROM:+0200
TZOFFSETTO:+0100
TZNAME:CET
DTSTART:20161030T010000
END:STANDARD
BEGIN:DAYLIGHT
TZOFFSETFROM:+0100
TZOFFSETTO:+0200
TZNAME:CEST
DTSTART:20170326T010000
END:DAYLIGHT
BEGIN:STANDARD
TZOFFSETFROM:+0200
TZOFFSETTO:+0100
TZNAME:CET
DTSTART:20171029T010000
END:STANDARD
BEGIN:DAYLIGHT
TZOFFSETFROM:+0100
TZOFFSETTO:+0200
TZNAME:CEST
DTSTART:20180325T010000
END:DAYLIGHT
BEGIN:STANDARD
TZOFFSETFROM:+0200
TZOFFSETTO:+0100
TZNAME:CET
DTSTART:20181028T010000
END:STANDARD
BEGIN:DAYLIGHT
TZOFFSETFROM:+0100
TZOFFSETTO:+0200
TZNAME:CEST
DTSTART:20190331T010000
END:DAYLIGHT
BEGIN:STANDARD
TZOFFSETFROM:+0200
TZOFFSETTO:+0100
TZNAME:CET
DTSTART:20191027T010000
END:STANDARD
BEGIN:DAYLIGHT
TZOFFSETFROM:+0100
TZOFFSETTO:+0200
TZNAME:CEST
DTSTART:20200329T010000
END:DAYLIGHT
BEGIN:STANDARD
TZOFFSETFROM:+0200
TZOFFSETTO:+0100
TZNAME:CET
DTSTART:20201025T010000
END:STANDARD
BEGIN:DAYLIGHT
TZOFFSETFROM:+0100
TZOFFSETTO:+0200
TZNAME:CEST
DTSTART:20210328T010000
END:DAYLIGHT
BEGIN:STANDARD
TZOFFSETFROM:+0200
TZOFFSETTO:+0100
TZNAME:CET
DTSTART:20211031T010000
END:STANDARD
BEGIN:DAYLIGHT
TZOFFSETFROM:+0100
TZOFFSETTO:+0200
TZNAME:CEST
DTSTART:20220327T010000
END:DAYLIGHT
BEGIN:STANDARD
TZOFFSETFROM:+0200
TZOFFSETTO:+0100
TZNAME:CET
DTSTART:20221030T010000
END:STANDARD
BEGIN:DAYLIGHT
TZOFFSETFROM:+0100
TZOFFSETTO:+0200
TZNAME:CEST
DTSTART:20230326T010000
END:DAYLIGHT
BEGIN:STANDARD
TZOFFSETFROM:+0200
TZOFFSETTO:+0100
TZNAME:CET
DTSTART:20231029T010000
END:STANDARD
BEGIN:DAYLIGHT
TZOFFSETFROM:+0100
TZOFFSETTO:+0200
TZNAME:CEST
DTSTART:20240331T010000
END:DAYLIGHT
BEGIN:STANDARD
TZOFFSETFROM:+0200
TZOFFSETTO:+0100
TZNAME:CET
DTSTART:20241027T010000
END:STANDARD
BEGIN:DAYLIGHT
TZOFFSETFROM:+0100
TZOFFSETTO:+0200
TZNAME:CEST
DTSTART:20250330T010000
END:DAYLIGHT
BEGIN:STANDARD
TZOFFSETFROM:+0200
TZOFFSETTO:+0100
TZNAME:CET
DTSTART:20251026T010000
END:STANDARD
BEGIN:DAYLIGHT
TZOFFSETFROM:+0100
TZOFFSETTO:+0200
TZNAME:CEST
DTSTART:20260329T010000
END:DAYLIGHT
BEGIN:STANDARD
TZOFFSETFROM:+0200
TZOFFSETTO:+0100
TZNAME:CET
DTSTART:20261025T010000
END:STANDARD
BEGIN:DAYLIGHT
TZOFFSETFROM:+0100
TZOFFSETTO:+0200
TZNAME:CEST
DTSTART:20270328T010000
END:DAYLIGHT
BEGIN:STANDARD
TZOFFSETFROM:+0200
TZOFFSETTO:+0100
TZNAME:CET
DTSTART:20271031T010000
END:STANDARD
END:VTIMEZONE
BEGIN:VEVENT
DTSTART;TZID=Europe/Paris:20260423T235646
DTEND;TZID=Europe/Paris:20260319T180000
DTSTAMP:20260423T235646
CREATED:20260316T222441Z
LAST-MODIFIED:20260316T222441Z
UID:35300-0-1773943200@randopaysdelorient.fr
SUMMARY:Randonnée du jeudi 19 Mars à Ploemeur
DESCRIPTION:Départ de la randonnée 13h15 du parking de Cosmao \nDépart 13h45 du parking St Mathurin rue Sainte Anne ( en face du bar restaurant La rando ). \nNous ferons le tour de Ploemeur par les chemins et sentiers . Du Ter \, passant par le quartier du Rhun \,Coquerie et le domaine de Soye avec ses baraques vestiges de la deuxième guerre . \nPrévoir de bonnes chaussures les chemins sont humides .
URL:https://randopaysdelorient.fr/rando/randonnee-du-jeudi-19-mars-a-ploemeur-2/
LOCATION:parking St Mathurin à Ploemeur
CATEGORIES:Rando du Jeudi
END:VEVENT
BEGIN:VEVENT
DTSTART;TZID=Europe/Paris:20260423T235646
DTEND;TZID=Europe/Paris:20260319T180000
DTSTAMP:20260423T235646
CREATED:20260317T085427Z
LAST-MODIFIED:20260317T085427Z
UID:35307-0-1773943200@randopaysdelorient.fr
SUMMARY:Randonnée du jeudi 19 Mars à Ploemeur
DESCRIPTION:Rendez vous 13h00 pour le départ de Cosmao 13h15 \nDépart de la randonnée 13h40 du parking Saint Mathurin rue Sainte Anne  (parking près de l’étang du Ter) \nNous randonnerons autour de Ploemeur et emprunterons les sentiers et chemins parfois humides ; avec quelques pauses à Cosqueric et au château de Soye . \n  \n 
URL:https://randopaysdelorient.fr/rando/randonnee-du-jeudi-19-mars-a-ploemeur-3/
LOCATION:parking St Mathurin à Ploemeur
CATEGORIES:Rando du Jeudi
END:VEVENT
BEGIN:VEVENT
DTSTART;TZID=Europe/Paris:20260423T235646
DTEND;TZID=Europe/Paris:20260319T180000
DTSTAMP:20260423T235646
CREATED:20260317T091625Z
LAST-MODIFIED:20260317T091653Z
UID:35312-0-1773943200@randopaysdelorient.fr
SUMMARY:Randonnée du jeudi 19 Mars à Ploemeur
DESCRIPTION:Rendez vous 13h00 pour un départ du parking de Cosmao 13 h15 . \nDépart de la randonnée 13h40 du parking Saint Mathurin ( près de l’étang du Ter ) Rue Sainte Anne . \nNous randonnerons autour de Ploemeur par les chemins et sentiers parfois humides ; avec quelques pauses à Cosqueric et près du château de Soye . \nPrévoir chaussures hautes ou guêtres . \nCovoiturage 0\,50 euros .
URL:https://randopaysdelorient.fr/rando/randonnee-du-jeudi-19-mars-a-ploemeur-4/
LOCATION:parking St Mathurin à Ploemeur
CATEGORIES:Rando du Jeudi
END:VEVENT
BEGIN:VEVENT
DTSTART;TZID=Europe/Paris:20250605T133000
DTEND;TZID=Europe/Paris:20250605T180000
DTSTAMP:20260423T235646
CREATED:20250529T081124Z
LAST-MODIFIED:20250529T082010Z
UID:26541-1749130200-1749146400@randopaysdelorient.fr
SUMMARY:Randonnée à Calan(56).
DESCRIPTION:Une boucle de 12 km dans la campagne calanaise.\nDépart de la randonnée à partir du parking situé place du Four à Calan ( en face de l’église).\nRdv à Cosmao à 13 h 15 pour un départ à 13h30.\nCovoiturage  : 2\,40 euros.
URL:https://randopaysdelorient.fr/rando/randonnee-a-calan56/
CATEGORIES:Rando du Jeudi
ORGANIZER;CN="Daniel Ducastel":MAILTO:claudani.ducastel@gmail.com
END:VEVENT
BEGIN:VEVENT
DTSTART;TZID=Europe/Paris:20250606T080000
DTEND;TZID=Europe/Paris:20250614T190000
DTSTAMP:20260423T235646
CREATED:20240930T141041Z
LAST-MODIFIED:20241019T070117Z
UID:20504-1749196800-1749927600@randopaysdelorient.fr
SUMMARY:Séjour à Tautavel \, Pyrénées Orientales\, du 6 au 14 juin 2025
DESCRIPTION:Départ de Lorient vendredi 6 juin\nDîner & nuit à Toulouse – Samedi matin visite guidée de la ville\nArrivée à Tautavel samedi am au village vacances Cap France Torre Del Far.\nPension complète du dîner J1 au petit déjeuner J8.en chambre à deux.\n6 Randonnées à la journée avec quelques visites ( musée \, château )\nTotal du séjour : 660€ \nAcompte à l’inscription : 200 €      RIB\nNombre de participants : 20\nCovoiturage estimé à 160€\nListe d’attente : me contacter par mail : munoz.veronique@orange.fr
URL:https://randopaysdelorient.fr/rando/sejour-a-tautavel-pyrenees-orientales-du-6-au-14-juin-2025/
CATEGORIES:Séjours
ORGANIZER;CN="V%C3%A9ronique Munoz":MAILTO:munoz.veronique@orange.fr
END:VEVENT
BEGIN:VEVENT
DTSTART;VALUE=DATE:20250610
DTEND;VALUE=DATE:20250611
DTSTAMP:20260423T235646
CREATED:20250524T144729Z
LAST-MODIFIED:20250524T144729Z
UID:26416-1749513600-1749599999@randopaysdelorient.fr
SUMMARY:La randonnée du  10 juin 2025 : sortie à la journée avec pique-nique à Saint Philibert
DESCRIPTION:Le mardi 10 juin 2025 est organisée une sortie à la journée avec pique-nique à Saint Philibert. \nDeux boucles sont prévues : le matin à la campagne avec 11 km\, et l’après-midi le bord de mer avec 8\,700 km. \nLe pique-nique restera dans les voitures. N’oubliez pas d’apporter votre siège. \nLe rendez-vous est fixé à 8h Boulevard Cosmao Dumanoir pour un départ à 8h15 (covoiturage 6€). \nLe départ de la randonnée aura lieu à 9 h du parking de la Chapelle rue de la Chapelle à Saint Philibert. \nMerci de me signaler si vous vous y rendez directement.
URL:https://randopaysdelorient.fr/rando/la-randonnee-du-10-juin-2025-sortie-a-la-journee-avec-pique-nique-a-saint-philibert/
CATEGORIES:Rando du Mardi
ORGANIZER;CN="Anne-Marie GARNIER":MAILTO:amr.garnier@orange.fr
END:VEVENT
BEGIN:VEVENT
DTSTART;TZID=Europe/Paris:20250611T133000
DTEND;TZID=Europe/Paris:20250611T180000
DTSTAMP:20260423T235646
CREATED:20250608T202713Z
LAST-MODIFIED:20250610T062814Z
UID:26797-1749648600-1749664800@randopaysdelorient.fr
SUMMARY:Mercredi 11 juin\, Larmor Plage\, circuit des fontaines revisité
DESCRIPTION:DeJe vous propose un circuit facile qui correspond globalement au circuit des fontaines. \nCircuit de 11 km environ. \nDépart de la randonnée : Boulevard Jean Monnet\, à droite juste après les restaurant des Rives du Ter. \nDépart à 13h30 de Cosmao ou 13h50 de Larmor Plage \n  \n 
URL:https://randopaysdelorient.fr/rando/mercredi-11-juin-larmor-plage-circuit-des-fontaines-revisite/
CATEGORIES:Rando du Mercredi
ORGANIZER;CN="Alain Graignic":MAILTO:alain.graignic@cegetel.net
END:VEVENT
BEGIN:VEVENT
DTSTART;TZID=Europe/Paris:20250612T133000
DTEND;TZID=Europe/Paris:20250612T183000
DTSTAMP:20260423T235646
CREATED:20250604T125206Z
LAST-MODIFIED:20250604T130716Z
UID:26687-1749735000-1749753000@randopaysdelorient.fr
SUMMARY:JEUDI 12 JUIN INZINZAC
DESCRIPTION:Voici une randonnée facile et agréable de 11 kms\, avec un faible dénivelé\, dans le bois de Trémelin à Inzinzac.\nRV à Cosmao à 13h15 pour départ à 13h30.\nCo-voiturage : 2.30€\nDépart de la randonnée Eglise St Pierre d’INZINZAC (parking place de la Mairie) à 14H\nMerci de me prévenir si vous y allez directement.\nA bientôt sur le chemin
URL:https://randopaysdelorient.fr/rando/jeudi-12-juin-inzinzac/
CATEGORIES:Rando du Jeudi
ORGANIZER;CN="Jean-Jacques Peyre":MAILTO:jjacques-jacques.peyre@orange.fr
END:VEVENT
BEGIN:VEVENT
DTSTART;TZID=Europe/Paris:20250612T133000
DTEND;TZID=Europe/Paris:20250612T183000
DTSTAMP:20260423T235646
CREATED:20250608T155939Z
LAST-MODIFIED:20250608T155939Z
UID:26793-1749735000-1749753000@randopaysdelorient.fr
SUMMARY:Rando 8: Jeudi 12 Juin à Brech
DESCRIPTION:RDV 13h à Cosmao\, Départ quand tous présents \nMerci de me prévenir si vous y allez en direct \nDépart de la rando: Chapelle St Guirin ou Guérin  à Brech. \nItinéraire: voie expresse\, sortie 34\, direction Brech\,  \naprès village de Kerivalan\,  prendre à droite village de St Guérin\, et droite vers la chapelle. \nDénivelé: 120 \ncovoiturage 5 €uros
URL:https://randopaysdelorient.fr/rando/rando-8-jeudi-12-juin-a-brech/
CATEGORIES:Rando du Jeudi - 8km
ORGANIZER;CN="Maryvette et Guy ALLARD":MAILTO:guymaryallard@gmail.com
END:VEVENT
BEGIN:VEVENT
DTSTART;TZID=Europe/Paris:20250616T100000
DTEND;TZID=Europe/Paris:20250616T110000
DTSTAMP:20260423T235646
CREATED:20250613T190431Z
LAST-MODIFIED:20250613T190431Z
UID:26901-1750068000-1750071600@randopaysdelorient.fr
SUMMARY:Longe Côte lundi 16 juin
DESCRIPTION:
URL:https://randopaysdelorient.fr/rando/longe-cote-lundi-16-juin/
CATEGORIES:Marche aquatique du lundi
ORGANIZER;CN="V%C3%A9ronique Munoz":MAILTO:munoz.veronique@orange.fr
END:VEVENT
BEGIN:VEVENT
DTSTART;TZID=Europe/Paris:20250617T090000
DTEND;TZID=Europe/Paris:20250617T110000
DTSTAMP:20260423T235646
CREATED:20250616T081734Z
LAST-MODIFIED:20250616T081734Z
UID:26956-1750150800-1750158000@randopaysdelorient.fr
SUMMARY:MN Les Rives du Ter
DESCRIPTION:
URL:https://randopaysdelorient.fr/rando/mn-les-rives-du-ter-35/
CATEGORIES:Marche nordique du mardi
ORGANIZER;CN="R%C3%A9mi TANGUY":MAILTO:remi.michel.tanguy@gmail.com
END:VEVENT
BEGIN:VEVENT
DTSTART;TZID=Europe/Paris:20250617T133000
DTEND;TZID=Europe/Paris:20250617T183000
DTSTAMP:20260423T235646
CREATED:20250611T142024Z
LAST-MODIFIED:20250611T142024Z
UID:26857-1750167000-1750185000@randopaysdelorient.fr
SUMMARY:Mardi 17 Juin 2025 à KERMEC
DESCRIPTION:Rando de 11kms à travers bois et campagne et sur les bords de l’Ellé. \nRV à Cosmao à 13h15 pour départ à 13h30 \nou à 14h au parking de Kermec (Commune de Tréméven) \nA Quimperlé\, prendre direction Le Faouët\, puis\, après le panneau de sortie de ville\, à environ 1.3km\, prendre à droite « Maison de l’enfance et des loisirs ». Au stop\, continuer tout droit jusqu’au parking. \nCo-voiturage : 3€ \nMerci de me prévenir si vous y allez directement.
URL:https://randopaysdelorient.fr/rando/mardi-17-juin-2025-a-kermec/
CATEGORIES:Rando du Mardi
ORGANIZER;CN="Anne Marie M%C3%A9hault-Peyre":MAILTO:amehaultpeyre@gmail.com
END:VEVENT
BEGIN:VEVENT
DTSTART;TZID=Europe/Paris:20250618T131500
DTEND;TZID=Europe/Paris:20250618T190000
DTSTAMP:20260423T235646
CREATED:20250613T175210Z
LAST-MODIFIED:20250613T175210Z
UID:26888-1750252500-1750273200@randopaysdelorient.fr
SUMMARY:Mercredi 18 juin  Randonnée à Trégunc
DESCRIPTION:En ce jour mémorable\, je vous invite ( ou vous appelle !!!) à randonner à Trégunc pour parcourir le circuit de l’anse de Pouldohan et de la pointe de la Jument. \nNous serons en face du Cabellou à Concarneau et profiterons pour jeter en oeil sur l’archipel des Glénan. \nRandonnée de 11 km sans dénivelé. \nDépart à 13h15 de Cosmao \nDépart de la randonnée à 14h du parking de la plage de Pouldohan. \nCovoiturage : 5 €
URL:https://randopaysdelorient.fr/rando/mercredi-18-juin-randonnee-a-tregunc/
CATEGORIES:Rando du Mercredi
ORGANIZER;CN="Alain Graignic":MAILTO:alain.graignic@cegetel.net
END:VEVENT
BEGIN:VEVENT
DTSTART;TZID=Europe/Paris:20250619T130000
DTEND;TZID=Europe/Paris:20250619T183000
DTSTAMP:20260423T235646
CREATED:20250614T085546Z
LAST-MODIFIED:20250615T180318Z
UID:26905-1750338000-1750357800@randopaysdelorient.fr
SUMMARY:Rando 8: Jeudi 19 Juin Locmariaquer
DESCRIPTION:RDV à 13h à Cosmao\, Départ quand tous présents. \nDépart de la rando Parking d’Auray face au Cimetière  route d’Auray. \nMe prévenir si vous y allez en direct. Merci \nCovoiturage:  6.20 €uros
URL:https://randopaysdelorient.fr/rando/rando-8-jeudi-19-juin-locmariaquer/
CATEGORIES:Rando du Jeudi - 8km
ORGANIZER;CN="Maryvette et Guy ALLARD":MAILTO:guymaryallard@gmail.com
END:VEVENT
BEGIN:VEVENT
DTSTART;TZID=Europe/Paris:20250619T131500
DTEND;TZID=Europe/Paris:20250619T183000
DTSTAMP:20260423T235646
CREATED:20250615T173018Z
LAST-MODIFIED:20250615T173145Z
UID:26946-1750338900-1750357800@randopaysdelorient.fr
SUMMARY:Randonnée du jeudi 19 Juin à Trégunc
DESCRIPTION:Départ 13h15 du parking de Cosmao . \nDépart de la randonnée 14 h du parking de la pointe de Trévignon ( route de la pointe de Trévignon ) \nNous traverserons  les hameaux de Trévigon \, St Philibert avec sa chapelle \,et Tréhuber par les sentiers . \nNous terminerons par la cote avec ses plages ; au loin se dessinera l’archipel des glénans . \nCovoiturage : 6 euros .
URL:https://randopaysdelorient.fr/rando/randonnee-du-jeudi-19-juin-a-tregunc/
LOCATION:parking de la pointe de Trévignon\, Trégunc
CATEGORIES:Rando du Jeudi
END:VEVENT
BEGIN:VEVENT
DTSTART;TZID=Europe/Paris:20250622T080000
DTEND;TZID=Europe/Paris:20250622T183000
DTSTAMP:20260423T235646
CREATED:20250601T102733Z
LAST-MODIFIED:20250620T114002Z
UID:26624-1750579200-1750617000@randopaysdelorient.fr
SUMMARY:Dimanche 22 Juin 2025 Le Tour du Parc et Penvins-RANDO ANNULEE
DESCRIPTION:Cette rando est annulée\, trop peu de personnes inscrites pour une sortie journée\, mais je la reprogrammerai à la rentrée.\n  \nRandonnée de 19 kms très facile au Tour du Parc puis à la Pointe de Penvins (2 boucles). \nRV à Cosmao à 8h pour départ à 8h15 \nou à 9h15 du parking rue Marie le Franc à Sarzeau. \nNe pas stationner sur le 1er parking\, continuer 700m le long du bord de mer. \nLe pique-nique reste dans la voiture. Prévoir un siège. \nAmateurs (trices) de baignade\, pensez au maillot. \nCo-voiturage : 10€ \nMerci de me prévenir si vous y allez directement.
URL:https://randopaysdelorient.fr/rando/dimanche-22-juin-le-tour-du-parc-et-penvins/
CATEGORIES:Rando du Dimanche
ORGANIZER;CN="Anne Marie M%C3%A9hault-Peyre":MAILTO:amehaultpeyre@gmail.com
END:VEVENT
BEGIN:VEVENT
DTSTART;TZID=Europe/Paris:20250623T100000
DTEND;TZID=Europe/Paris:20250623T110000
DTSTAMP:20260423T235646
CREATED:20250620T074704Z
LAST-MODIFIED:20250620T074704Z
UID:27335-1750672800-1750676400@randopaysdelorient.fr
SUMMARY:longe cote lundi 23 juin
DESCRIPTION:﻿
URL:https://randopaysdelorient.fr/rando/longe-cote-lundi-23-juin/
CATEGORIES:Marche aquatique du lundi
ORGANIZER;CN="V%C3%A9ronique Munoz":MAILTO:munoz.veronique@orange.fr
END:VEVENT
BEGIN:VEVENT
DTSTART;TZID=Europe/Paris:20250624T090000
DTEND;TZID=Europe/Paris:20250624T110000
DTSTAMP:20260423T235646
CREATED:20250622T140521Z
LAST-MODIFIED:20250622T140521Z
UID:27652-1750755600-1750762800@randopaysdelorient.fr
SUMMARY:MN Le Fort Bloqué
DESCRIPTION:
URL:https://randopaysdelorient.fr/rando/mn-le-fort-bloque-4/
ORGANIZER;CN="R%C3%A9mi TANGUY":MAILTO:remi.michel.tanguy@gmail.com
END:VEVENT
BEGIN:VEVENT
DTSTART;TZID=Europe/Paris:20250624T090000
DTEND;TZID=Europe/Paris:20250624T110000
DTSTAMP:20260423T235646
CREATED:20250623T070151Z
LAST-MODIFIED:20250623T070151Z
UID:27659-1750755600-1750762800@randopaysdelorient.fr
SUMMARY:MN Le Fort Bloqué
DESCRIPTION:
URL:https://randopaysdelorient.fr/rando/mn-le-fort-bloque/
ORGANIZER;CN="R%C3%A9mi TANGUY":MAILTO:remi.michel.tanguy@gmail.com
END:VEVENT
BEGIN:VEVENT
DTSTART;TZID=Europe/Paris:20250624T133000
DTEND;TZID=Europe/Paris:20250624T183000
DTSTAMP:20260423T235646
CREATED:20250618T082806Z
LAST-MODIFIED:20250618T082806Z
UID:27266-1750771800-1750789800@randopaysdelorient.fr
SUMMARY:La randonnée du mardi 24 juin 2025 : Plouharnel\, chapelle Sainte Barbe et les deux Abbayes
DESCRIPTION:La randonnée du mardi 24 juin 2024 aura lieu à Plouharnel\, circuit sans difficulté de 12 km qui nous mènera à la chapelle Sainte Barbe\, puis au bord de mer et retour par les deux Abbayes. \nLe rendez-vous est fixé à 13h15 Boulevard Cosmao Dumanoir pour un départ à 13h30 (covoiturage 4€) . \nLe départ de la randonnée aura lieu à 14h15 du parking du super U\, Rond point de l’Océan\, à Plouharnel. \nMerci de me signaler si vous vous y rendez directement.
URL:https://randopaysdelorient.fr/rando/la-randonnee-du-mardi-24-juin-2025-plouharnel-chapelle-sainte-barbe-et-les-deux-abbayes/
LOCATION:PARKING SUPER U\, RDPT DE L OCEAN\, PLOUHARNEL\, 56340\, France
CATEGORIES:Rando du Mardi
ORGANIZER;CN="Anne-Marie GARNIER":MAILTO:amr.garnier@orange.fr
END:VEVENT
BEGIN:VEVENT
DTSTART;TZID=Europe/Paris:20250625T133000
DTEND;TZID=Europe/Paris:20250625T180000
DTSTAMP:20260423T235646
CREATED:20250620T075451Z
LAST-MODIFIED:20250624T165443Z
UID:27339-1750858200-1750874400@randopaysdelorient.fr
SUMMARY:Randonnée mercredi 25 juin : annulée
DESCRIPTION:Bonjour\, \nNous somme trop peu nombreux \, nous annulons la rando \nDésolée \nNous vous proposons une randonnée de 10 km ( journée à Arz le lendemain ) au départ du parking du pont de Brigneau à Moelan /mer. \nDépart à 13h30 de Cosmao ou sur place à 14h \nCovoiturage 4 €
URL:https://randopaysdelorient.fr/rando/randonnee-mercredi-25-juin/
CATEGORIES:Rando du Mercredi
ORGANIZER;CN="V%C3%A9ronique Munoz":MAILTO:munoz.veronique@orange.fr
END:VEVENT
BEGIN:VEVENT
DTSTART;VALUE=DATE:20250626
DTEND;VALUE=DATE:20250627
DTSTAMP:20260423T235646
CREATED:20250404T140745Z
LAST-MODIFIED:20250523T113726Z
UID:24946-1750896000-1750982399@randopaysdelorient.fr
SUMMARY:Sortie de fin d'année à l'Ile d'Arz jeudi 26 juin
DESCRIPTION:Comme les années précédentes nous organisons une sortie à la journée pour tous les membres de l’association\, ce qui permet de rencontrer les randonneurs qui ne marchent pas les mêmes jours durant l’année.\nCette année avec Patrick nous vous proposons le tour de l’île d’Arz  : 14 ou 17 km . Pique nique dans le sac.\nLe départ se fera à la gare maritime de Vannes à 8h30 et le retour au bateau de 17h30 ( arrivée à Vannes à 18h)\nLe prix de la traversée est de 11\,80€ à régler à RPL .RIB\nRdV à 7h30 à Cosmao pour organiser le covoiturage ( vous pouvez constituer des voitures de 4 ou 5 en amont )\nPrix du covoiturage : 7€\nDate limite d’inscription : 1er juin\nEn espérant que vous serez nombreux à venir !\nA très bientôt\nVéronique & Patrick
URL:https://randopaysdelorient.fr/rando/sortie-de-fin-dannee-a-lile-darz-jeudi-26-juin/
CATEGORIES:Marche aquatique du lundi,Marche nordique,Rando du Jeudi,Rando du Jeudi - 8km,Rando du Mardi,Rando du Mercredi,Randos insolites / Divers
END:VEVENT
BEGIN:VEVENT
DTSTART;TZID=Europe/Paris:20250630T100000
DTEND;TZID=Europe/Paris:20250630T110000
DTSTAMP:20260423T235646
CREATED:20250626T155253Z
LAST-MODIFIED:20250626T155254Z
UID:27727-1751277600-1751281200@randopaysdelorient.fr
SUMMARY:Longe Côte lundi 30 juin
DESCRIPTION:Bonjour \, \nPour la dernière séance de l’année et en l’absence de vos 2 animateurs habituels\, ce sera Regine sui viendra vous entraîner. \nBel été à vous tous \nOn se revoit en septembre \nBise
URL:https://randopaysdelorient.fr/rando/longe-cote-lundi-30-juin/
CATEGORIES:Marche aquatique du lundi
END:VEVENT
END:VCALENDAR