BEGIN:VCALENDAR
VERSION:2.0
PRODID:-//Rando Pays de Lorient - ECPv6.15.17.1//NONSGML v1.0//EN
CALSCALE:GREGORIAN
METHOD:PUBLISH
X-ORIGINAL-URL:https://randopaysdelorient.fr
X-WR-CALDESC:Évènements pour Rando Pays de Lorient
REFRESH-INTERVAL;VALUE=DURATION:PT1H
X-Robots-Tag:noindex
X-PUBLISHED-TTL:PT1H
BEGIN:VTIMEZONE
TZID:Europe/Paris
BEGIN:DAYLIGHT
TZOFFSETFROM:+0100
TZOFFSETTO:+0200
TZNAME:CEST
DTSTART:20250330T010000
END:DAYLIGHT
BEGIN:STANDARD
TZOFFSETFROM:+0200
TZOFFSETTO:+0100
TZNAME:CET
DTSTART:20251026T010000
END:STANDARD
BEGIN:DAYLIGHT
TZOFFSETFROM:+0100
TZOFFSETTO:+0200
TZNAME:CEST
DTSTART:20260329T010000
END:DAYLIGHT
BEGIN:STANDARD
TZOFFSETFROM:+0200
TZOFFSETTO:+0100
TZNAME:CET
DTSTART:20261025T010000
END:STANDARD
BEGIN:DAYLIGHT
TZOFFSETFROM:+0100
TZOFFSETTO:+0200
TZNAME:CEST
DTSTART:20270328T010000
END:DAYLIGHT
BEGIN:STANDARD
TZOFFSETFROM:+0200
TZOFFSETTO:+0100
TZNAME:CET
DTSTART:20271031T010000
END:STANDARD
END:VTIMEZONE
BEGIN:VEVENT
DTSTART;VALUE=DATE:20260501
DTEND;VALUE=DATE:20260502
DTSTAMP:20260421T101924
CREATED:20260330T074432Z
LAST-MODIFIED:20260330T075501Z
UID:35842-1777593600-1777679999@randopaysdelorient.fr
SUMMARY:Vendredi 1er mai 2026 : LA PRINTANIÈRE (28 km ou 14 km)
DESCRIPTION:Vendredi 1er mai 2026 : « La Printanière » à Saint Thurien.\nau choix\, soit 28km ou 14km.\n  \nCovoiturage : 5€ \nJe vous propose\, soit : \n– la rando à la journée au départ du Moulin de Kerchuz \n2 boucles de 14 Km \nle pique-nique au moulin de Kerchuz reste dans la voiture \nDépart de Cosmao à 8 heure \nDépart de la rando à 9h \nou soit : \n– le pique-nique en commun vers 12h30 suivi d’une rando de 14km \nCeux qui font ce second choix préviennent Dany au 06 08 55 62 49 \n 
URL:https://randopaysdelorient.fr/rando/vendredi-1er-mai-2026-la-printaniere-28-km-ou-14-km/
LOCATION:Moulin de Kerchuz\, Moulin de Kerchuz\, Bannalec\, 29380\, France
CATEGORIES:Rando du Dimanche,Rando du Jeudi,Rando du Jeudi - 8km,Rando du Mardi,Rando du Mercredi,Randos insolites / Divers
ATTACH;FMTTYPE=image/jpeg:https://randopaysdelorient.fr/wp-content/uploads/2026/03/IMG-20260328-WA0009.jpg
ORGANIZER;CN="Yannick Hell%C3%A9gouarch":MAILTO:yannick.hellegouarch@orange.fr
END:VEVENT
BEGIN:VEVENT
DTSTART;TZID=Europe/Paris:20260510T080000
DTEND;TZID=Europe/Paris:20260510T170000
DTSTAMP:20260421T101924
CREATED:20260412T090739Z
LAST-MODIFIED:20260420T055915Z
UID:36281-1778400000-1778432400@randopaysdelorient.fr
SUMMARY:Randonnée à Pontivy le dimanche 10 mai.
DESCRIPTION:le Tour de Pontivy. \nBoucle de 20 km avec pique nique tiré du sac . Nous emprunterons des chemins creux à la découverte des alentours de Napoléonville. Peu de voies en milieu urbain.\n Le lieu de départ a été modifié et le sens du circuit a été inversé.\nLe départ de la randonnée se fera du parking situé rue de la Fontaine à Pontivy à 9h30. (parking situé en centre ville)\nNous partirons de Cosmao à 8h30.\ncovoiturage  : 7 euros\nMe prévenir si vous y allez directement.\n 
URL:https://randopaysdelorient.fr/rando/randonnee-a-pontivy/
LOCATION:PONTIVY\, 3 rue de la Fontaine\, Pontivy\, 56300\, France
CATEGORIES:Rando du Dimanche,Rando du Jeudi,Rando du Mercredi
ORGANIZER;CN="Daniel Ducastel":MAILTO:claudani.ducastel@gmail.com
END:VEVENT
BEGIN:VEVENT
DTSTART;VALUE=DATE:20260512
DTEND;VALUE=DATE:20260513
DTSTAMP:20260421T101924
CREATED:20260416T142705Z
LAST-MODIFIED:20260416T143904Z
UID:36314-1778544000-1778630399@randopaysdelorient.fr
SUMMARY:Randonnée à la journée du mardi 12 mai 2026 : Trégunc la pointe de la Jument et l'anse de Pouldohan\, le sentier côtier et les étangs littoraux
DESCRIPTION:La randonnée à la journée du mardi 12 mai 2026 aura lieu à Trégunc.\nDeux boucles sont prévues : le matin la pointe de la Jument et l’anse de Pouldohan (10\,5 km) et l’après midi le sentier côtier et les étangs littoraux (8\,4 km).\nLes parcours ne présentent aucune difficulté.\nLe pique-nique\, qui reste dans les voitures\, aura lieu sur le parking (« parking at the Beach ») situé à l’entrée de la route du camping (du Loc’h) où nous serons stationnés. Penser à apporter votre siège.\nLe rendez-vous est fixé à 8h au 85 boulevard Cosmao Dumanoir pour un départ à 8h15 (covoiturage 6 euros).\nLe départ de la randonnée aura lieu à 9h15 du parking « At the Beach ».\nMerci de me signaler si vous vous y rendez directement.
URL:https://randopaysdelorient.fr/rando/randonnee-a-la-journee-du-mardi-12-mai-2026-tregunc-la-pointe-de-la-jument-et-lanse-de-poulhoban-le-sentier-cotier-et-les-etangs-littoraux/
LOCATION:Parking\, Parking at the Beach\, TREGUNC\, 29910\, France
CATEGORIES:Rando du Mardi
ATTACH;FMTTYPE=image/jpeg:https://randopaysdelorient.fr/wp-content/uploads/2026/04/1-6.jpg
ORGANIZER;CN="Anne-Marie GARNIER":MAILTO:amr.garnier@orange.fr
END:VEVENT
BEGIN:VEVENT
DTSTART;TZID=Europe/Paris:20260518T080000
DTEND;TZID=Europe/Paris:20260522T190000
DTSTAMP:20260421T101924
CREATED:20250930T095031Z
LAST-MODIFIED:20260331T160520Z
UID:29386-1779091200-1779476400@randopaysdelorient.fr
SUMMARY:Séjour à Piriac sur Mer du 18 au 22 mai 2026
DESCRIPTION:Séjour du 18 au 22 mai 2026 \nHébergement en pension complète au VVF de Piriac sur Mer. \nChambre double\, piscine \nCoût du séjour  : 350 € \nAcompte:  200  €     RIB \nCovoiturage : environ 20 € \nNombre de participants : 24 \nProgramme prévisionnel : \n5 jours de randonnée : Piriac\, Guérande\, La Brière\, Le Croisic\, Arzal \nPour s’inscrire sur liste d’attente : mail à alain.graignic@cegetel.net
URL:https://randopaysdelorient.fr/rando/sejour-a-piriac-sur-mer-du-18-au-22-mai-2026/
LOCATION:Piriac sur Mer\, 385 route de St Sébastien\, Piriac sur mer\, 44420\, France
CATEGORIES:Séjours
ATTACH;FMTTYPE=image/jpeg:https://randopaysdelorient.fr/wp-content/uploads/2025/09/port-de-piriac-sur-mer.jpg
ORGANIZER;CN="Alain Graignic":MAILTO:alain.graignic@cegetel.net
END:VEVENT
BEGIN:VEVENT
DTSTART;TZID=Europe/Paris:20260528T083000
DTEND;TZID=Europe/Paris:20260528T183000
DTSTAMP:20260421T101924
CREATED:20260414T082934Z
LAST-MODIFIED:20260414T093659Z
UID:36297-1779957000-1779993000@randopaysdelorient.fr
SUMMARY:Rando 8:  Jeudi 28 Mai \, Sortie à la journée à Pluvigner
DESCRIPTION:RDV à 8h15 parking de Cosmao-Dumanoir\, départ à 8h30. \nDépart de la 1ère rando parking de la poste à Pluvigner\, Rando de 8 Km\, D: 58 sans difficulté \nRepas au restaurant  » Au Goût du Jour » \nPour 20 €uros: Entrée sous forme de buffet \, plat du jour \, fromage\, dessert\,  Kir \,Café \, Eau\, vin ou cidre. \nDépart 2ème rando\, rue de la Pépinière Locoal Camors: rando de 6 Km\, D:55\, Facile \nMerci de vous inscrire avant le Samedi 23 Mai\, \nCovoiturage:  5 €uros \n  \n 
URL:https://randopaysdelorient.fr/rando/rando-8-jeudi-28-mai-sortie-a-la-journee-a-pluvigner/
LOCATION:Parking de la poste PLUVIGNER\, Pluvigner
CATEGORIES:Rando du Jeudi - 8km
ORGANIZER;CN="Maryvette et Guy ALLARD":MAILTO:guymaryallard@gmail.com
END:VEVENT
END:VCALENDAR